BEGIN:VCALENDAR
VERSION:2.0
PRODID:-//Department Of Education//f71f6c42-756b-43c3-a591-be9232c9d099
BEGIN:VTIMEZONE
TZID:Australia/Sydney
TZURL:http://tzurl.org/zoneinfo-outlook/Australia/Sydney
X-LIC-LOCATION:Australia/Sydney
BEGIN:STANDARD
TZOFFSETFROM:+1100
TZOFFSETTO:+1000
TZNAME:AEST
DTSTART:19700405T030000
RRULE:FREQ=YEARLY;BYMONTH=4;BYDAY=1SU
END:STANDARD
BEGIN:DAYLIGHT
TZOFFSETFROM:+1000
TZOFFSETTO:+1100
TZNAME:AEDT
DTSTART:19701004T020000
RRULE:FREQ=YEARLY;BYMONTH=10;BYDAY=1SU
END:DAYLIGHT
END:VTIMEZONE
CALSCALE:GREGORIAN
X-WR-TIMEZONE:Australia/Sydney
BEGIN:VEVENT
DTSTART;VALUE=DATE:20200310
DTEND;VALUE=DATE:20200311
DTSTAMP:20200310T000000Z
UID:5f3e872b-3e4a-486c-8ff4-2064b71634b8
LOCATION:South Grafton High School
SUMMARY;LANGUAGE=en-us:Yr 6 Sports Transition Day
SEQUENCE:0
DESCRIPTION:South Grafton High School
END:VEVENT
TRANSP:TRANSPARENT
END:VCALENDAR
