BEGIN:VCALENDAR
VERSION:2.0
PRODID:-//Department Of Education//eb373ecf-e4f5-4ea6-b242-4b450a2986f7
BEGIN:VTIMEZONE
TZID:Australia/Sydney
TZURL:http://tzurl.org/zoneinfo-outlook/Australia/Sydney
X-LIC-LOCATION:Australia/Sydney
BEGIN:STANDARD
TZOFFSETFROM:+1100
TZOFFSETTO:+1000
TZNAME:AEST
DTSTART:19700405T030000
RRULE:FREQ=YEARLY;BYMONTH=4;BYDAY=1SU
END:STANDARD
BEGIN:DAYLIGHT
TZOFFSETFROM:+1000
TZOFFSETTO:+1100
TZNAME:AEDT
DTSTART:19701004T020000
RRULE:FREQ=YEARLY;BYMONTH=10;BYDAY=1SU
END:DAYLIGHT
END:VTIMEZONE
CALSCALE:GREGORIAN
X-WR-TIMEZONE:Australia/Sydney
BEGIN:VEVENT
DTSTART;VALUE=DATE:20200320
DTEND;VALUE=DATE:20200321
DTSTAMP:20200320T000000Z
UID:545abe29-d15b-40d3-8dae-3d8908911cd5
LOCATION:Nymboida PS
SUMMARY;LANGUAGE=en-us:National day of action against bullying
SEQUENCE:0
DESCRIPTION:The NDA is a catalyst for Australian schools to take a stand together against bullying.  The day brings together more than 60% of schools nationwide, involving more than two million students in finding workable solutions to address bullying and violence.
END:VEVENT
TRANSP:TRANSPARENT
END:VCALENDAR
