BEGIN:VCALENDAR
VERSION:2.0
PRODID:-//Department Of Education//790f2908-d78a-47dd-a927-74af8304b444
BEGIN:VTIMEZONE
TZID:Australia/Sydney
TZURL:http://tzurl.org/zoneinfo-outlook/Australia/Sydney
X-LIC-LOCATION:Australia/Sydney
BEGIN:STANDARD
TZOFFSETFROM:+1100
TZOFFSETTO:+1000
TZNAME:AEST
DTSTART:19700405T030000
RRULE:FREQ=YEARLY;BYMONTH=4;BYDAY=1SU
END:STANDARD
BEGIN:DAYLIGHT
TZOFFSETFROM:+1000
TZOFFSETTO:+1100
TZNAME:AEDT
DTSTART:19701004T020000
RRULE:FREQ=YEARLY;BYMONTH=10;BYDAY=1SU
END:DAYLIGHT
END:VTIMEZONE
CALSCALE:GREGORIAN
X-WR-TIMEZONE:Australia/Sydney
BEGIN:VEVENT
DTSTART;VALUE=DATE:20200319
DTEND;VALUE=DATE:20200320
DTSTAMP:20200319T000000Z
UID:fa14f592-7231-4183-ab74-11c9cf352fea
LOCATION:Nymboida PS
SUMMARY;LANGUAGE=en-us:Harmony Day Celebrations
SEQUENCE:0
DESCRIPTION:Students to wear orange coloured clothing and bring a plate of food to share.
END:VEVENT
TRANSP:TRANSPARENT
END:VCALENDAR
