BEGIN:VCALENDAR
VERSION:2.0
PRODID:-//Department Of Education//85e686dd-1fa8-450a-b515-8829162dee2f
BEGIN:VTIMEZONE
TZID:Australia/Sydney
TZURL:http://tzurl.org/zoneinfo-outlook/Australia/Sydney
X-LIC-LOCATION:Australia/Sydney
BEGIN:STANDARD
TZOFFSETFROM:+1100
TZOFFSETTO:+1000
TZNAME:AEST
DTSTART:19700405T030000
RRULE:FREQ=YEARLY;BYMONTH=4;BYDAY=1SU
END:STANDARD
BEGIN:DAYLIGHT
TZOFFSETFROM:+1000
TZOFFSETTO:+1100
TZNAME:AEDT
DTSTART:19701004T020000
RRULE:FREQ=YEARLY;BYMONTH=10;BYDAY=1SU
END:DAYLIGHT
END:VTIMEZONE
CALSCALE:GREGORIAN
X-WR-TIMEZONE:Australia/Sydney
BEGIN:VEVENT
DTSTART;VALUE=DATE:20200309
DTEND;VALUE=DATE:20200310
DTSTAMP:20200309T000000Z
UID:5a1a96d5-7d3d-4233-9b8d-1616c043fbee
LOCATION:Nymboida PS
SUMMARY;LANGUAGE=en-us:Funky Hair Day
SEQUENCE:0
DESCRIPTION:In support of the Leukaemia Foundation - World's Greatest Shave 
END:VEVENT
TRANSP:TRANSPARENT
END:VCALENDAR
